BEGIN:VCALENDAR
VERSION:2.0
PRODID:icalendar-ruby
CALSCALE:GREGORIAN
METHOD:PUBLISH
BEGIN:VEVENT
DTSTAMP:20260425T132155Z
UID:11-789463@marketavenue.church
DTSTART:20260920T141500Z
DTEND:20260920T144500Z
CLASS:PUBLIC
CREATED:20260425T063419
DESCRIPTION:
LAST-MODIFIED:20260425T063419
LOCATION:Market Avenue Church of God
SUMMARY:Sunday Morning Prayer
URL;VALUE=URI:https://www.marketavenue.church/events/sunday-morning-prayer/
 2026-09-20
END:VEVENT
END:VCALENDAR
