BEGIN:VCALENDAR
VERSION:2.0
PRODID:icalendar-ruby
CALSCALE:GREGORIAN
METHOD:PUBLISH
BEGIN:VEVENT
DTSTAMP:20260425T145033Z
UID:11-790138@marketavenue.church
DTSTART:20260927T141500Z
DTEND:20260927T144500Z
CLASS:PUBLIC
CREATED:20260425T091539
DESCRIPTION:
LAST-MODIFIED:20260425T091539
LOCATION:Market Avenue Church of God
SUMMARY:Sunday Morning Prayer
URL;VALUE=URI:https://www.marketavenue.church/events/sunday-morning-prayer/
 2026-09-27
END:VEVENT
END:VCALENDAR
