BEGIN:VCALENDAR
VERSION:2.0
PRODID:icalendar-ruby
CALSCALE:GREGORIAN
METHOD:PUBLISH
BEGIN:VEVENT
DTSTAMP:20260421T225320Z
UID:14-776301@marketavenue.church
DTSTART:20260924T113000Z
DTEND:20260924T120000Z
CLASS:PUBLIC
CREATED:20260421T170003
DESCRIPTION:
LAST-MODIFIED:20260421T170003
LOCATION:https://us02web.zoom.us/j/82888852611
SUMMARY:Weekday Morning Prayer
URL;VALUE=URI:https://www.marketavenue.church/events/weekday-morning-prayer
 --14/2026-09-24
END:VEVENT
END:VCALENDAR
