BEGIN:VCALENDAR
VERSION:2.0
PRODID:icalendar-ruby
CALSCALE:GREGORIAN
METHOD:PUBLISH
BEGIN:VEVENT
DTSTAMP:20260422T015919Z
UID:14-776974@marketavenue.church
DTSTART:20261008T113000Z
DTEND:20261008T120000Z
CLASS:PUBLIC
CREATED:20260421T193846
DESCRIPTION:
LAST-MODIFIED:20260421T193846
LOCATION:https://us02web.zoom.us/j/82888852611
SUMMARY:Weekday Morning Prayer
URL;VALUE=URI:https://www.marketavenue.church/events/weekday-morning-prayer
 --14/2026-10-08
END:VEVENT
END:VCALENDAR
