BEGIN:VCALENDAR
VERSION:2.0
PRODID:icalendar-ruby
CALSCALE:GREGORIAN
METHOD:PUBLISH
BEGIN:VEVENT
DTSTAMP:20260421T212247Z
UID:13-775535@marketavenue.church
DTSTART:20260923T113000Z
DTEND:20260923T120000Z
CLASS:PUBLIC
CREATED:20260421T142243
DESCRIPTION:
LAST-MODIFIED:20260421T142243
LOCATION:https://us02web.zoom.us/j/82888852611
SUMMARY:Weekday Morning Prayer
URL;VALUE=URI:https://www.marketavenue.church/events/weekday-morning-prayer
 /2026-09-23
END:VEVENT
END:VCALENDAR
