BEGIN:VCALENDAR
VERSION:2.0
PRODID:icalendar-ruby
CALSCALE:GREGORIAN
METHOD:PUBLISH
BEGIN:VEVENT
DTSTAMP:20260422T002508Z
UID:13-776208@marketavenue.church
DTSTART:20261007T113000Z
DTEND:20261007T120000Z
CLASS:PUBLIC
CREATED:20260421T170003
DESCRIPTION:
LAST-MODIFIED:20260421T170003
LOCATION:https://us02web.zoom.us/j/82888852611
SUMMARY:Weekday Morning Prayer
URL;VALUE=URI:https://www.marketavenue.church/events/weekday-morning-prayer
 /2026-10-07
END:VEVENT
END:VCALENDAR
