BEGIN:VCALENDAR
VERSION:2.0
PRODID:icalendar-ruby
CALSCALE:GREGORIAN
METHOD:PUBLISH
BEGIN:VEVENT
DTSTAMP:20260422T033629Z
UID:13-776881@marketavenue.church
DTSTART:20261021T113000Z
DTEND:20261021T120000Z
CLASS:PUBLIC
CREATED:20260421T193846
DESCRIPTION:
LAST-MODIFIED:20260421T193846
LOCATION:https://us02web.zoom.us/j/82888852611
SUMMARY:Weekday Morning Prayer
URL;VALUE=URI:https://www.marketavenue.church/events/weekday-morning-prayer
 /2026-10-21
END:VEVENT
END:VCALENDAR
